BEGIN:VCALENDAR
VERSION:2.0
PRODID:-//Soul Detective - ECPv6.0.9//NONSGML v1.0//EN
CALSCALE:GREGORIAN
METHOD:PUBLISH
X-ORIGINAL-URL:https://souldetective.net
X-WR-CALDESC:Events for Soul Detective
REFRESH-INTERVAL;VALUE=DURATION:PT1H
X-Robots-Tag:noindex
X-PUBLISHED-TTL:PT1H
BEGIN:VTIMEZONE
TZID:America/New_York
BEGIN:DAYLIGHT
TZOFFSETFROM:-0500
TZOFFSETTO:-0400
TZNAME:EDT
DTSTART:20220313T070000
END:DAYLIGHT
BEGIN:STANDARD
TZOFFSETFROM:-0400
TZOFFSETTO:-0500
TZNAME:EST
DTSTART:20221106T060000
END:STANDARD
END:VTIMEZONE
BEGIN:VEVENT
DTSTART;VALUE=DATE:20220423
DTEND;VALUE=DATE:20220425
DTSTAMP:20260422T011046
CREATED:20211117T011547Z
LAST-MODIFIED:20211117T011547Z
UID:4567-1650672000-1650844799@souldetective.net
SUMMARY:Soul Detective Level One Online with Dr. Sandeep Hunjan
DESCRIPTION:Please contact Dr. Hunjan for all details \nEmail: drshunjan@yahoo.com \nPhone: 1-416-357-5741
URL:https://souldetective.net/event/soul-detective-level-one-online-with-dr-sandeep-hunjan-3/
END:VEVENT
BEGIN:VEVENT
DTSTART;VALUE=DATE:20220423
DTEND;VALUE=DATE:20220425
DTSTAMP:20260422T011046
CREATED:20220322T002611Z
LAST-MODIFIED:20220322T002611Z
UID:4776-1650672000-1650844799@souldetective.net
SUMMARY:Soul Detective Level One with Harriette McDonough
DESCRIPTION:In-person training in Garcen City\, NY \nFor details\, Contact Harriette at 516-680-2463 or email harriettemcd@gmail.com
URL:https://souldetective.net/event/soul-detective-level-one-with-harriette-mcdonough/
END:VEVENT
END:VCALENDAR