BEGIN:VCALENDAR
VERSION:2.0
PRODID:-//Soul Detective - ECPv6.0.9//NONSGML v1.0//EN
CALSCALE:GREGORIAN
METHOD:PUBLISH
X-WR-CALNAME:Soul Detective
X-ORIGINAL-URL:https://souldetective.net
X-WR-CALDESC:Events for Soul Detective
REFRESH-INTERVAL;VALUE=DURATION:PT1H
X-Robots-Tag:noindex
X-PUBLISHED-TTL:PT1H
BEGIN:VTIMEZONE
TZID:America/New_York
BEGIN:DAYLIGHT
TZOFFSETFROM:-0500
TZOFFSETTO:-0400
TZNAME:EDT
DTSTART:20230312T070000
END:DAYLIGHT
BEGIN:STANDARD
TZOFFSETFROM:-0400
TZOFFSETTO:-0500
TZNAME:EST
DTSTART:20231105T060000
END:STANDARD
END:VTIMEZONE
BEGIN:VEVENT
DTSTART;VALUE=DATE:20230128
DTEND;VALUE=DATE:20230130
DTSTAMP:20260421T094909
CREATED:20220822T234809Z
LAST-MODIFIED:20220924T162201Z
UID:4823-1674864000-1675036799@souldetective.net
SUMMARY:Level 1 Online with Harriette McDonough Jan. 28-29\, 2023
DESCRIPTION:Soul Detective Level 1 Training: Friday\, Sat. Jan 28 – Sun Jan 29\, 2023 (2 day Training)\n \n\nHealing Past Life Trauma\n \nWhen past life trauma comes up as the origin of a problem\, the Soul Detective® protocol taught in this workshop provides students the opportunity to use muscle testing rather than hypnosis to gather information. After getting centered and getting spiritual permission to work with the past life\, the protocol calls in spiritual help to work with the traumatic energy. Next\, muscle testing determines gender of that life\, age at death\, cause of death\, and enough other relevant identifying information so that the student can make an intuitive connection to that lifetime and then do energy tapping to clear the trauma involved. \nWhether the soul of the student actually had the life in objective reality\, or whether the life is fictional and the student simply has an emotional resonance to the problem\, the life is treated “as if it were true” to give the student the opportunity for healing the emotions involved. \nDATES: Friday\, Sat. Jan 28 – Sun Jan 29\, 2023 (2 day Training) \nPLACE: Private Home\, Garden City\, NY \nDURATION: 9-5pm both days \nCOST: $450\nA deposit of $200 to PayPal.me/Harriettemcdonough1 \nTRAINER: Harriette McDonough LCSW\, DCEP\, ACP-EFT \nTO REGISTER: Call or text Harriette McDonough at 516-680-2463 or email harriettemcd@gmail.com \nTARGET AUDIENCE: Healers from a broad range of disciplines. While the information will be most useful for hypnotherapists\, counselors\, psychotherapists\, and social workers\, other practitioners who work with emotional healing and want skills to work with past life trauma are also welcome: hands-on healers\, massage therapists\, chiropractors\, psychiatric nurses\, spiritual guidance directors\, and reiki masters. \nPREREQUISITE: None \nKey Benefits of this Training:\n\nUse the Soul Detective® protocol to find and clear past life trauma\nMuscle Testing to gather identifying information about past lives.\nMeasurement of the human energy field with a pendulum and dowsing rods\nCustomized centering and balancing techniques\nEnergy Tapping to rapidly release the energetic blockages underlying trauma\nFind and connect with one’s Guardian Angels\, personal guidance team or Beings of Light\, including spirit guides\, beloved ancestors\, totem animals\, and Ascended Masters
URL:https://souldetective.net/event/level-1-with-harriette-mcdonough-jan-28-29-2023/
END:VEVENT
END:VCALENDAR