BEGIN:VCALENDAR
VERSION:2.0
PRODID:-//Soul Detective - ECPv6.0.9//NONSGML v1.0//EN
CALSCALE:GREGORIAN
METHOD:PUBLISH
X-WR-CALNAME:Soul Detective
X-ORIGINAL-URL:https://souldetective.net
X-WR-CALDESC:Events for Soul Detective
REFRESH-INTERVAL;VALUE=DURATION:PT1H
X-Robots-Tag:noindex
X-PUBLISHED-TTL:PT1H
BEGIN:VTIMEZONE
TZID:America/New_York
BEGIN:DAYLIGHT
TZOFFSETFROM:-0500
TZOFFSETTO:-0400
TZNAME:EDT
DTSTART:20230312T070000
END:DAYLIGHT
BEGIN:STANDARD
TZOFFSETFROM:-0400
TZOFFSETTO:-0500
TZNAME:EST
DTSTART:20231105T060000
END:STANDARD
END:VTIMEZONE
BEGIN:VEVENT
DTSTART;VALUE=DATE:20230401
DTEND;VALUE=DATE:20230404
DTSTAMP:20260421T070312
CREATED:20230210T233738Z
LAST-MODIFIED:20230210T233738Z
UID:4881-1680307200-1680566399@souldetective.net
SUMMARY:Soul Detective Level 3 Online with Dr. Stone
DESCRIPTION:HOURS: 10 am to 6 pm Eastern Time each day \nTOPICS: Crossing Earthbound spirits\, Healing Ancestral Wounds\, Detrimental Energy Protocol\, Working with Elementals \nPRE-REQUISITE: Soul Detective Levels One and Two \nCEs: 18 CEs for ACEP recertification \nTUITION:  $595\, earlybird rate of $560 if tuition is paid in full two weeks prior to class \nAdditional $50 to $100 scholarship per level based on need available with a letter of request accompanying the application
URL:https://souldetective.net/event/soul-detective-level-3-online-with-dr-stone-2/
LOCATION:Online
ORGANIZER;CN="Barbara%20Stone":MAILTO:contact@souldetective.net
END:VEVENT
END:VCALENDAR