BEGIN:VCALENDAR
VERSION:2.0
PRODID:-//Soul Detective - ECPv6.0.9//NONSGML v1.0//EN
CALSCALE:GREGORIAN
METHOD:PUBLISH
X-WR-CALNAME:Soul Detective
X-ORIGINAL-URL:https://souldetective.net
X-WR-CALDESC:Events for Soul Detective
REFRESH-INTERVAL;VALUE=DURATION:PT1H
X-Robots-Tag:noindex
X-PUBLISHED-TTL:PT1H
BEGIN:VTIMEZONE
TZID:America/New_York
BEGIN:DAYLIGHT
TZOFFSETFROM:-0500
TZOFFSETTO:-0400
TZNAME:EDT
DTSTART:20240310T070000
END:DAYLIGHT
BEGIN:STANDARD
TZOFFSETFROM:-0400
TZOFFSETTO:-0500
TZNAME:EST
DTSTART:20241103T060000
END:STANDARD
END:VTIMEZONE
BEGIN:VEVENT
DTSTART;VALUE=DATE:20240113
DTEND;VALUE=DATE:20240115
DTSTAMP:20260421T165020
CREATED:20230531T112229Z
LAST-MODIFIED:20230531T112413Z
UID:4964-1705104000-1705276799@souldetective.net
SUMMARY:Level 1 Online with Barbara Stone
DESCRIPTION:HOURS: 10 am to 6 pm Eastern Time each day \nTOPICS: Muscle testing\, Centering Techniques\, Energy Tapping\, Healing Past Life Trauma\, Positive Past Lives \nTARGET AUDIENCE: Target audience is practitioners of the healing arts: psychotherapists\, hypnotherapists\, counselors\, pastoral counselors\, psychologists\, psychiatrists\, psychiatric nurses\, and other healing professionals \nCEs: 12 CEs for ACEP re-certification \nTUITION: $425. Earlybird discount of $30 if paid in full by two weeks before class\, $395. \nAdditional $50 scholarship per level based on need available with a letter of request accompanying the application \n  \nCANCELLATION  POLICY \nRefund minus $50 registration fee with at least 7 days advance notice. \nFor cancellation with less than 7 days notice\, tuition minus $50 registration fee will be credited toward a future training.
URL:https://souldetective.net/event/level-1-online-with-barbara-stone/
LOCATION:Online
ORGANIZER;CN="Barbara%20Stone":MAILTO:contact@souldetective.net
END:VEVENT
END:VCALENDAR