BEGIN:VCALENDAR
VERSION:2.0
PRODID:-//Soul Detective - ECPv6.0.9//NONSGML v1.0//EN
CALSCALE:GREGORIAN
METHOD:PUBLISH
X-WR-CALNAME:Soul Detective
X-ORIGINAL-URL:https://souldetective.net
X-WR-CALDESC:Events for Soul Detective
REFRESH-INTERVAL;VALUE=DURATION:PT1H
X-Robots-Tag:noindex
X-PUBLISHED-TTL:PT1H
BEGIN:VTIMEZONE
TZID:America/New_York
BEGIN:DAYLIGHT
TZOFFSETFROM:-0500
TZOFFSETTO:-0400
TZNAME:EDT
DTSTART:20210314T070000
END:DAYLIGHT
BEGIN:STANDARD
TZOFFSETFROM:-0400
TZOFFSETTO:-0500
TZNAME:EST
DTSTART:20211107T060000
END:STANDARD
BEGIN:DAYLIGHT
TZOFFSETFROM:-0500
TZOFFSETTO:-0400
TZNAME:EDT
DTSTART:20220313T070000
END:DAYLIGHT
BEGIN:STANDARD
TZOFFSETFROM:-0400
TZOFFSETTO:-0500
TZNAME:EST
DTSTART:20221106T060000
END:STANDARD
BEGIN:DAYLIGHT
TZOFFSETFROM:-0500
TZOFFSETTO:-0400
TZNAME:EDT
DTSTART:20230312T070000
END:DAYLIGHT
BEGIN:STANDARD
TZOFFSETFROM:-0400
TZOFFSETTO:-0500
TZNAME:EST
DTSTART:20231105T060000
END:STANDARD
END:VTIMEZONE
BEGIN:VEVENT
DTSTART;TZID=America/New_York:20230118T183000
DTEND;TZID=America/New_York:20230118T200000
DTSTAMP:20260421T154554
CREATED:20220822T234309Z
LAST-MODIFIED:20220822T234309Z
UID:4817-1674066600-1674072000@souldetective.net
SUMMARY:Past Life Trauma free Zoom demo with Harriette McDonough
DESCRIPTION:Have you ever met someone new and felt as if you had known that person your whole life?\nHave you ever gone to a new place and felt as if you had been there before\, maybe even knowing where things were?\nHave you ever had a physical problem that was unresponsive to treatments that usually cure that issue?\nHave you ever had a fear or a phobia of something and you could not figure out how you got it?\n\nAll of these situations point to the possibility of past life connections to a person or a place.  Sometimes the root cause of an emotional problem or a relationship difficulty lies in unresolved trauma from a past life. \nIf your logic mind cannot explain any of the above\, stay curious and come witness a free demonstration of a gentle\, heart centered Past Life Regression protocol from the Soul Detective Level 1 training. If you are so called\, come take the Soul Detective Level 1 Training which teaches this amazing protocol 0n Feb. 15 and Feb 16\,2020! \nDate:  Wednesday\, JAN. 18\, 2023 \nPresenter and Trainer: Harriette McDonough\, LCSW\, DCEP\, ACP-EFT  www.threearms.com( first trained teacher by Dr. Barbara Stone\, the developer of Soul Detective® Protocols www.souldetective.net) \nTime: 6:30PM-8:00PM \nPlace: ZOOM \nCost: FREE \nTarget Audience: Mental Health\, health\, and healing arts professionals. \nTo Reserve seat: Must Text or call Harriette at 516-680-2463 or email at Harriettemcd@gmail.com
URL:https://souldetective.net/event/past-life-trauma-free-zoom-demo-with-harriette-mcdonough/
END:VEVENT
BEGIN:VEVENT
DTSTART;VALUE=DATE:20230114
DTEND;VALUE=DATE:20230117
DTSTAMP:20260421T154554
CREATED:20220702T145302Z
LAST-MODIFIED:20220924T162236Z
UID:4798-1673654400-1673913599@souldetective.net
SUMMARY:Level 4B Online with Dr. Stone January 14-16\, 2023
DESCRIPTION:HOURS: 10 am to 6 pm Eastern Time each day \nTOPICS: Artificial Intelligence Protocol\, Clone Trauma\, Vaccination Damage Repair\, and Unraveling Sorcery Damage Protocol \nPRE-REQUISITE: Soul Detective Levels One\, Two\, Three\, and 4A \nCEs: 18 CEs for ACEP recertification \nSoul Detective Practitioner Card Deck \nExpanded Checklist to broaden therapeutic scope and reach \nTUITION:  $595\, earlybird rate of $560 if tuition is paid in full two weeks prior to class \nAdditional $50 and $100 scholarships available per level as needed to fit into one’s budget\, with request \nDISCOUNTS \nDiscount for signing up for Levels One\, Two\, and Three: \nTuition without discounts is $1\,615 \n$100 Tuition discount for signing up for all 3 classes at once: $1515 \nAn extra $100 Early bird discount for paying in full two weeks or more before the first class: $1415 \nDiscounts for all 4 levels: \nTuition without discounts $2\,635 \n$200 Discount for signing up for all 4 levels at once: $2\,435 \n  \nEarlybird discount\, paying in full 2 weeks before the first class $2\,270 \nExtra-earlybird discount\, paying in full one month before the first class: $2\,210.
URL:https://souldetective.net/event/level-4b-online-january-14-16-2023/
LOCATION:Online
ORGANIZER;CN="Barbara%20Stone":MAILTO:contact@souldetective.net
END:VEVENT
BEGIN:VEVENT
DTSTART;VALUE=DATE:20221126
DTEND;VALUE=DATE:20221129
DTSTAMP:20260421T154554
CREATED:20220924T162003Z
LAST-MODIFIED:20220924T162003Z
UID:4832-1669420800-1669679999@souldetective.net
SUMMARY:Level 3 Online with Dr. Sandeep Hunjuan
DESCRIPTION:For details and registration\, see Dr. Hunjan’s website:  About | Healing Growth Joy
URL:https://souldetective.net/event/level-3-online-with-dr-sandeep-hunjuan/
END:VEVENT
BEGIN:VEVENT
DTSTART;VALUE=DATE:20221119
DTEND;VALUE=DATE:20221121
DTSTAMP:20260421T154554
CREATED:20220702T144933Z
LAST-MODIFIED:20220924T162303Z
UID:4796-1668816000-1668988799@souldetective.net
SUMMARY:Level 4A Online with Dr. Stone November 19-20
DESCRIPTION:HOURS: 10 am to 6 pm Eastern Time each day \nTOPICS: ET Interference Protocol\, Reptilian Removal Protocol \nPRE-REQUISITE: Soul Detective Levels One\, Two\, and Three \nCEs: 12 CEs for ACEP recertification \nIncluded with the class: The Mermet Pendulum \nTuition: $395  earlybird price $365 for payment in full two weeks prior to class \nAdditional $50 and $100 scholarships available per level as needed to fit into one’s budget\, with request
URL:https://souldetective.net/event/level-4a-online-november-19-20/
LOCATION:Online
ORGANIZER;CN="Barbara%20Stone":MAILTO:contact@souldetective.net
END:VEVENT
BEGIN:VEVENT
DTSTART;VALUE=DATE:20221029
DTEND;VALUE=DATE:20221101
DTSTAMP:20260421T154554
CREATED:20220702T144431Z
LAST-MODIFIED:20220924T162328Z
UID:4794-1667001600-1667260799@souldetective.net
SUMMARY:Level 3 Online with Dr. Stone October 29-31
DESCRIPTION:HOURS: 10 am to 6 pm Eastern Time each day \nTOPICS: Crossing Earthbound spirits\, Healing Ancestral Wounds\, Detrimental Energy Protocol\, Working with Elementals \nPRE-REQUISITE: Soul Detective Levels One and Two \nCEs: 18 CEs for ACEP recertification \nTUITION:  $595\, earlybird rate of $560 if tuition is paid in full two weeks prior to class \nAdditional $50 and $100 scholarships per level based on need available with a letter of request accompanying the application \nDISCOUNTS \nDiscount for signing up for Levels One\, Two\, and Three: \nTuition without discounts is $1\,615 \n$100 Tuition discount for signing up for all 3 classes at once: $1515 \nAn extra $100 Early bird discount for paying in full two weeks or more before the first class: $1415
URL:https://souldetective.net/event/level-3-online-october-29-31/
LOCATION:Online
ORGANIZER;CN="Barbara%20Stone":MAILTO:contact@souldetective.net
END:VEVENT
BEGIN:VEVENT
DTSTART;VALUE=DATE:20221022
DTEND;VALUE=DATE:20221025
DTSTAMP:20260421T154554
CREATED:20220924T161845Z
LAST-MODIFIED:20220924T161845Z
UID:4830-1666396800-1666655999@souldetective.net
SUMMARY:Level 2 Online with Dr. Sandeep Hunjan
DESCRIPTION:For details and registration\, see Dr. Hunjan’s website:  About | Healing Growth Joy
URL:https://souldetective.net/event/level-2-online-with-dr-sandeep-hunjan/
END:VEVENT
BEGIN:VEVENT
DTSTART;VALUE=DATE:20221008
DTEND;VALUE=DATE:20221011
DTSTAMP:20260421T154554
CREATED:20220702T144203Z
LAST-MODIFIED:20220924T162356Z
UID:4792-1665187200-1665446399@souldetective.net
SUMMARY:Level 2 Online with Dr. Stone October 8-10
DESCRIPTION:HOURS: 10 am to 6 pm Eastern Time each day \nTOPICS: Releasing vows of poverty\, Clearing Curses and Hexes\, Energetic Cords\, Recovering lost soul fragments\, Finding Root Cause\, Building Customized Treatments. \nPRE-REQUISITE: Soul Detective Level One Class \nCEs: 18 CEs for ACEP re-certification \nTUITION:  $595\, earlybird rate of $560 if tuition is paid in full two weeks prior to class \nAdditional $25 discount if taking both Levels 1 and 2 together. \nAdditional $50 and $100 scholarships per level based on need available with a letter of request accompanying the application \nCANCELLATION  POLICY \nRefund minus $50 registration fee with at least 7 days advance notice. \nFor cancellation with less than 7 days notice\, tuition minus $50 registration fee will be credited toward a future training.
URL:https://souldetective.net/event/level-2-online-october-8-10/
LOCATION:Online
ORGANIZER;CN="Barbara%20Stone":MAILTO:contact@souldetective.net
END:VEVENT
BEGIN:VEVENT
DTSTART;VALUE=DATE:20221001
DTEND;VALUE=DATE:20221003
DTSTAMP:20260421T154554
CREATED:20220924T161551Z
LAST-MODIFIED:20220924T161551Z
UID:4826-1664582400-1664755199@souldetective.net
SUMMARY:Level 1 Online with Dr. Sandeep Hunjan
DESCRIPTION:For details and registration\, see Dr. Hunjan’s website:  About | Healing Growth Joy
URL:https://souldetective.net/event/level-1-online-with-dr-sandeep-hunjan/
END:VEVENT
BEGIN:VEVENT
DTSTART;VALUE=DATE:20220917
DTEND;VALUE=DATE:20220919
DTSTAMP:20260421T154554
CREATED:20220702T143948Z
LAST-MODIFIED:20220817T195056Z
UID:4789-1663372800-1663545599@souldetective.net
SUMMARY:Level 1 Online September 17-18
DESCRIPTION:HOURS: 10 am to 6 pm Eastern Time each day \nTOPICS: Muscle testing\, Centering Techniques\, Energy Tapping\, Healing Past Life Trauma\, Positive Past Lives \nTARGET AUDIENCE: Target audience is practitioners of the healing arts: psychotherapists\, hypnotherapists\, counselors\, pastoral counselors\, psychologists\, psychiatrists\, psychiatric nurses\, and other healing professionals \nCEs: 12 CEs for ACEP re-certification \nTUITION: $425. Earlybird discount of $30 if paid in full by two weeks before class\, $395. \nAdditional $50 and $100 scholarships per level based on need available with a letter of request accompanying the application \nCANCELLATION  POLICY \nRefund minus $50 registration fee with at least 7 days advance notice. \nFor cancellation with less than 7 days notice\, tuition minus $50 registration fee will be credited toward a future training.
URL:https://souldetective.net/event/level-1-online-september-17-18/
LOCATION:Online
ORGANIZER;CN="Barbara%20Stone":MAILTO:contact@souldetective.net
END:VEVENT
BEGIN:VEVENT
DTSTART;VALUE=DATE:20220717
DTEND;VALUE=DATE:20220720
DTSTAMP:20260421T154554
CREATED:20211220T171345Z
LAST-MODIFIED:20220430T225030Z
UID:4607-1658016000-1658275199@souldetective.net
SUMMARY:Soul Detective Level 4B Online with Barbara Stone
DESCRIPTION:HOURS: 10 am to 6 pm Eastern Time each day \nTOPICS: Expanded Checklist\,  ET Interference Protocol\, Artificial Intelligence Protocol\, Interdimensional Parasitic Disc Protocol\, Clone Trauma Protocol\, Chimera Protocol\, Alien Abduction Protocol\, Vaccination Damage Repair\, and Unraveling Sorcery Damage Protocol. \nPRE-REQUISITE: Soul Detective Levels One\, Two\, Three\, and 4A \nCEs: 18 CEs for ACEP recertification \nTUITION:  $595\, earlybird rate of $560 if tuition is paid in full two weeks prior to class
URL:https://souldetective.net/event/soul-detective-level-4b-online-with-barbara-stone/
LOCATION:Online
ORGANIZER;CN="Barbara%20Stone":MAILTO:contact@souldetective.net
END:VEVENT
BEGIN:VEVENT
DTSTART;VALUE=DATE:20220429
DTEND;VALUE=DATE:20220501
DTSTAMP:20260421T154554
CREATED:20211123T200619Z
LAST-MODIFIED:20211123T200619Z
UID:4587-1651190400-1651363199@souldetective.net
SUMMARY:Level One in person with Dr. Stone Millersburg\, Ohio
DESCRIPTION:HOURS: 9:30 am to 5:30 pm Eastern Time each day \nTOPICS: Muscle testing\, Centering Techniques\, Energy Tapping\, Healing Past Life Trauma\, Positive Past Lives \nTARGET AUDIENCE: Target audience is practitioners of the healing arts: psychotherapists\, hypnotherapists\, counselors\, pastoral counselors\, psychologists\, psychiatrists\, psychiatric nurses\, and other healing professionals \nCEs: 12 CEs for ACEP re-certification \nTUITION: $425. Earlybird discount of $30 if paid in full by two weeks before class\, $395. \nAdditional $50 scholarship per level based on need available with a letter of request accompanying the application \n  \nCANCELLATION  POLICY \nRefund minus $50 registration fee with at least 7 days advance notice. \nFor cancellation with less than 7 days notice\, tuition minus $50 registration fee will be credited toward a future training.
URL:https://souldetective.net/event/level-one-in-person-with-dr-stone-millersburg-ohio/
LOCATION:Millersburg\, Ohio\, OH\, 44654\, United States
ORGANIZER;CN="Barbara%20Stone":MAILTO:contact@souldetective.net
END:VEVENT
BEGIN:VEVENT
DTSTART;VALUE=DATE:20220423
DTEND;VALUE=DATE:20220425
DTSTAMP:20260421T154554
CREATED:20220322T002611Z
LAST-MODIFIED:20220322T002611Z
UID:4776-1650672000-1650844799@souldetective.net
SUMMARY:Soul Detective Level One with Harriette McDonough
DESCRIPTION:In-person training in Garcen City\, NY \nFor details\, Contact Harriette at 516-680-2463 or email harriettemcd@gmail.com
URL:https://souldetective.net/event/soul-detective-level-one-with-harriette-mcdonough/
END:VEVENT
BEGIN:VEVENT
DTSTART;VALUE=DATE:20220423
DTEND;VALUE=DATE:20220425
DTSTAMP:20260421T154554
CREATED:20211117T011547Z
LAST-MODIFIED:20211117T011547Z
UID:4567-1650672000-1650844799@souldetective.net
SUMMARY:Soul Detective Level One Online with Dr. Sandeep Hunjan
DESCRIPTION:Please contact Dr. Hunjan for all details \nEmail: drshunjan@yahoo.com \nPhone: 1-416-357-5741
URL:https://souldetective.net/event/soul-detective-level-one-online-with-dr-sandeep-hunjan-3/
END:VEVENT
BEGIN:VEVENT
DTSTART;TZID=America/New_York:20220422T183000
DTEND;TZID=America/New_York:20220422T200000
DTSTAMP:20260421T154554
CREATED:20220322T002334Z
LAST-MODIFIED:20220322T002334Z
UID:4774-1650652200-1650657600@souldetective.net
SUMMARY:Free Demo of Healing Past Life Trauma with Harriette McDonough
DESCRIPTION:6:30-8 pm in Garden City\, NY \nContact Harriette at 516-680-2463 \nEmail: harriettemcd@gmail.com
URL:https://souldetective.net/event/free-demo-of-healing-past-life-trauma-with-harriette-mcdonough/
END:VEVENT
BEGIN:VEVENT
DTSTART;VALUE=DATE:20220402
DTEND;VALUE=DATE:20220404
DTSTAMP:20260421T154554
CREATED:20211220T160129Z
LAST-MODIFIED:20211220T171200Z
UID:4604-1648857600-1649030399@souldetective.net
SUMMARY:Soul Detective Level 4A Online with Dr. Stone
DESCRIPTION:HOURS: 10 am to 6 pm Eastern Time each day \nTOPICS: ET Interference Protocol\, Reptilian Removal Protocol \nPRE-REQUISITE: Soul Detective Levels One\, Two\, and Three \nCEs: 12 CEs for ACEP recertification \nTuition: $395  earlybird price $365 for payment in full two weeks prior to class
URL:https://souldetective.net/event/soul-detective-level-4a-online-with-dr-stone/
LOCATION:Online
ORGANIZER;CN="Barbara%20Stone":MAILTO:contact@souldetective.net
END:VEVENT
BEGIN:VEVENT
DTSTART;VALUE=DATE:20220326
DTEND;VALUE=DATE:20220329
DTSTAMP:20260421T154554
CREATED:20211123T195853Z
LAST-MODIFIED:20211220T155547Z
UID:4584-1648252800-1648511999@souldetective.net
SUMMARY:Soul Detective Level 3 Online with Dr. Stone
DESCRIPTION:HOURS: 10 am to 6 pm Eastern Time each day \nTOPICS: Crossing Earthbound spirits\, Healing Ancestral Wounds\, Detrimental Energy Protocol\, Working with Elementals \nPRE-REQUISITE: Soul Detective Levels One and Two \nCEs: 18 CEs for ACEP recertification \nTuition: $595   earlybird price $565 with payment in full two weeks prior to class \n  \nALL THREE LEVELS \nAdditional $50 scholarship per level based on need available with a letter of request accompanying the application \nCANCELLATION  POLICY \nRefund minus $50 registration fee with at least 7 days advance notice. \nFor cancellation with less than 7 days notice\, tuition minus $50 registration fee will be credited toward a future training.
URL:https://souldetective.net/event/soul-detective-level-3-online-with-dr-stone/
LOCATION:Online
ORGANIZER;CN="Barbara%20Stone":MAILTO:contact@souldetective.net
END:VEVENT
BEGIN:VEVENT
DTSTART;VALUE=DATE:20220226
DTEND;VALUE=DATE:20220301
DTSTAMP:20260421T154554
CREATED:20211123T195434Z
LAST-MODIFIED:20211123T195434Z
UID:4581-1645833600-1646092799@souldetective.net
SUMMARY:Soul Detective Level 2 Online with Dr. Stone
DESCRIPTION:HOURS: 10 am to 6 pm Eastern Time each day \nTOPICS: Releasing vows of poverty\, Clearing Curses and Hexes\, Energetic Cords\, Recovering lost soul fragments\, Finding Root Cause\, Building Customized Treatments. \nPRE-REQUISITE: Soul Detective Level One Class \nCEs: 18 CEs for ACEP re-certification \nTUITION:  $595\, earlybird rate of $560 if tuition is paid in full two weeks prior to class \nAdditional $25 discount if taking both Levels 1 and 2 together. \nAdditional $50 scholarship per level based on need available with a letter of request accompanying the application \nCANCELLATION  POLICY \nRefund minus $50 registration fee with at least 7 days advance notice. \nFor cancellation with less than 7 days notice\, tuition minus $50 registration fee will be credited toward a future training.
URL:https://souldetective.net/event/soul-detective-level-2-online-with-dr-stone/
LOCATION:Online
ORGANIZER;CN="Barbara%20Stone":MAILTO:contact@souldetective.net
END:VEVENT
BEGIN:VEVENT
DTSTART;VALUE=DATE:20220219
DTEND;VALUE=DATE:20220221
DTSTAMP:20260421T154554
CREATED:20211117T011408Z
LAST-MODIFIED:20211117T011408Z
UID:4565-1645228800-1645401599@souldetective.net
SUMMARY:Soul Detective Level One Online with Dr. Sandeep Hunjan
DESCRIPTION:Please contact Dr. Hunjan for all details \nEmail: drshunjan@yahoo.com \nPhone: 1-416-357-5741
URL:https://souldetective.net/event/soul-detective-level-one-online-with-dr-sandeep-hunjan-2/
END:VEVENT
BEGIN:VEVENT
DTSTART;VALUE=DATE:20220129
DTEND;VALUE=DATE:20220131
DTSTAMP:20260421T154554
CREATED:20211123T195027Z
LAST-MODIFIED:20211123T195952Z
UID:4579-1643414400-1643587199@souldetective.net
SUMMARY:Soul Detective Level 1 Online with Dr. Stone
DESCRIPTION:HOURS: 10 am to 6 pm Eastern Time each day \nTOPICS: Muscle testing\, Centering Techniques\, Energy Tapping\, Healing Past Life Trauma\, Positive Past Lives \nTARGET AUDIENCE: Target audience is practitioners of the healing arts: psychotherapists\, hypnotherapists\, counselors\, pastoral counselors\, psychologists\, psychiatrists\, psychiatric nurses\, and other healing professionals \nCEs: 12 CEs for ACEP re-certification \nTUITION: $425. Earlybird discount of $30 if paid in full by two weeks before class\, $395. \nAdditional $50 scholarship per level based on need available with a letter of request accompanying the application \nCANCELLATION  POLICY \nRefund minus $50 registration fee with at least 7 days advance notice. \nFor cancellation with less than 7 days notice\, tuition minus $50 registration fee will be credited toward a future training.
URL:https://souldetective.net/event/online-level-1-with-dr-stone/
LOCATION:Online
ORGANIZER;CN="Barbara%20Stone":MAILTO:contact@souldetective.net
END:VEVENT
BEGIN:VEVENT
DTSTART;VALUE=DATE:20211119
DTEND;VALUE=DATE:20211122
DTSTAMP:20260421T154554
CREATED:20210407T190331Z
LAST-MODIFIED:20210407T190331Z
UID:4334-1637280000-1637539199@souldetective.net
SUMMARY:Online Level 3 with Dr. Sandeep Hunjan Part B Nov. 19-21
DESCRIPTION:drshunjan@yahoo.com\n\nPhone: 1-416-357-5741
URL:https://souldetective.net/event/online-level-3-with-dr-sandeep-hunjan-part-b-nov-19-21/
LOCATION:Online
END:VEVENT
BEGIN:VEVENT
DTSTART;VALUE=DATE:20211111
DTEND;VALUE=DATE:20211116
DTSTAMP:20260421T154554
CREATED:20210407T185524Z
LAST-MODIFIED:20211220T155057Z
UID:4327-1636588800-1637020799@souldetective.net
SUMMARY:Soul Detective Level 3 and 4A Online
DESCRIPTION:HOURS: 10 am to 6 pm Eastern Time each day \nLEVEL THREE TOPICS: Crossing Earthbound spirits\, Healing Ancestral Wounds\, Detrimental Energy Protocol\,  Working with Elementals \nLEVEL 4A TOPICS: Extraterrestrial Interference and the Reptilian Removal Protocol \nPRE-REQUISITE: Soul Detective Levels One and Two \nCEs: 30 CEs for ACEP recertification \nTuition: $925   earlybird two weeks before $885 \n  \nALL THREE LEVELS \nTuition for all three levels without discounts $1\,945. \nDiscount for signing up for all three levels at once: $1\,845 \nEarlybird discount paying in full by two weeks before the first class is  $1\,740 \nExtra-earlybird price paying in full by one month before the first class is $1\,695. \nAdditional $50 scholarship per level based on need available with a letter of request accompanying the application \nCANCELLATION  POLICY \nRefund minus $50 registration fee with at least 7 days advance notice. \nFor cancellation with less than 7 days notice\, tuition minus $50 registration fee will be credited toward a future training.
URL:https://souldetective.net/event/soul-detective-level-3-online/
LOCATION:Online
ORGANIZER;CN="Barbara%20Stone":MAILTO:contact@souldetective.net
END:VEVENT
BEGIN:VEVENT
DTSTART;VALUE=DATE:20211106
DTEND;VALUE=DATE:20211108
DTSTAMP:20260421T154554
CREATED:20210407T190133Z
LAST-MODIFIED:20210407T190133Z
UID:4332-1636156800-1636329599@souldetective.net
SUMMARY:Online Level 3 with Dr. Sandeep Hunjan Nov. 6-7 and Nov. 19-21
DESCRIPTION:Please contact Dr. Hunjan for all details \nEmail: drshunjan@yahoo.com \nPhone: 1-416-357-5741
URL:https://souldetective.net/event/online-level-3-with-dr-sandeep-hunjan-nov-6-7-and-nov-19-21/
END:VEVENT
BEGIN:VEVENT
DTSTART;VALUE=DATE:20211016
DTEND;VALUE=DATE:20211019
DTSTAMP:20260421T154554
CREATED:20210419T233239Z
LAST-MODIFIED:20210419T233239Z
UID:4441-1634342400-1634601599@souldetective.net
SUMMARY:Soul Detective Level Two Online with Dr. Sandeep Hunjan
DESCRIPTION:Contact Dr. Hunjan directly for details. \nPhone: 416-357-5741 \nEmail: drshunjan@yahoo.com \nWebsite: www.healinggrowthjoy.com
URL:https://souldetective.net/event/soul-detective-level-two-online-with-dr-sandeep-hunjan/
END:VEVENT
BEGIN:VEVENT
DTSTART;VALUE=DATE:20211009
DTEND;VALUE=DATE:20211012
DTSTAMP:20260421T154554
CREATED:20210407T184440Z
LAST-MODIFIED:20210407T184440Z
UID:4321-1633737600-1633996799@souldetective.net
SUMMARY:Soul Detective Level 2 Online
DESCRIPTION:HOURS: 10 am to 6 pm Eastern Time each day \nTOPICS: Releasing vows of poverty\, Clearing Curses and Hexes\, Energetic Cords\, Recovering lost soul fragments\, Finding Root Cause\, Building Customized Treatments. \nPRE-REQUISITE: Soul Detective Level One Class \nCEs: 18 CEs for ACEP re-certification \nTUITION:  $595\, earlybird rate of $560 \nAdditional $25 discount if taking both Levels 1 and 2 together. \nAdditional $50 scholarship per level based on need available with a letter of request accompanying the application \nCANCELLATION  POLICY \nRefund minus $50 registration fee with at least 7 days advance notice. \nFor cancellation with less than 7 days notice\, tuition minus $50 registration fee will be credited toward a future training.
URL:https://souldetective.net/event/soul-detective-level-2-online-2/
LOCATION:Online
ORGANIZER;CN="Barbara%20Stone":MAILTO:contact@souldetective.net
END:VEVENT
BEGIN:VEVENT
DTSTART;VALUE=DATE:20210918
DTEND;VALUE=DATE:20210920
DTSTAMP:20260421T154554
CREATED:20210419T233057Z
LAST-MODIFIED:20210419T233057Z
UID:4439-1631923200-1632095999@souldetective.net
SUMMARY:Soul Detective Level One Online with Dr. Sandeep Hunjan
DESCRIPTION:Contact Dr. Hunjan directly for details \nPhone: 416-357-5741 \nEmail: drshunjan@yahoo.com \nWebsite: www.healinggrowthjoy.com
URL:https://souldetective.net/event/soul-detective-level-one-online-with-dr-sandeep-hunjan/
END:VEVENT
BEGIN:VEVENT
DTSTART;VALUE=DATE:20210911
DTEND;VALUE=DATE:20210913
DTSTAMP:20260421T154554
CREATED:20210407T183932Z
LAST-MODIFIED:20210407T183932Z
UID:4317-1631318400-1631491199@souldetective.net
SUMMARY:Soul Detective Level 1 Online
DESCRIPTION:HOURS: 10 am to 6 pm Eastern Time each day \nTOPICS: Muscle testing\, Centering Techniques\, Energy Tapping\, Healing Past Life Trauma \nTARGET AUDIENCE: Target audience is practitioners of the healing arts: psychotherapists\, hypnotherapists\, counselors\, pastoral counselors\, psychologists\, psychiatrists\, psychiatric nurses\, and other healing professionals \nCEs: 12 CEs for ACEP re-certification \nTUITION: $425. Earlybird discount of $30 if paid in full by two weeks before class\, $395. \nAdditional $50 scholarship per level based on need available with a letter of request accompanying the application \nCANCELLATION  POLICY \nRefund minus $50 registration fee with at least 7 days advance notice. \nFor cancellation with less than 7 days notice\, tuition minus $50 registration fee will be credited toward a future training.
URL:https://souldetective.net/event/soul-detective-level-1-online-2/
LOCATION:Online
ORGANIZER;CN="Barbara%20Stone":MAILTO:contact@souldetective.net
END:VEVENT
BEGIN:VEVENT
DTSTART;VALUE=DATE:20210731
DTEND;VALUE=DATE:20210803
DTSTAMP:20260421T154554
CREATED:20210407T185057Z
LAST-MODIFIED:20210407T185057Z
UID:4325-1627689600-1627948799@souldetective.net
SUMMARY:Soul Detective Level 3 Part B Online
DESCRIPTION:See the listing for Part A for all details.
URL:https://souldetective.net/event/soul-detective-level-3-part-b-online/
LOCATION:Online
ORGANIZER;CN="Barbara%20Stone":MAILTO:contact@souldetective.net
END:VEVENT
BEGIN:VEVENT
DTSTART;VALUE=DATE:20210724
DTEND;VALUE=DATE:20210726
DTSTAMP:20260421T154554
CREATED:20210407T184905Z
LAST-MODIFIED:20210407T185713Z
UID:4323-1627084800-1627257599@souldetective.net
SUMMARY:Soul Detective Level 3 Online Part A July 24-25 and Part B July 31-August 2
DESCRIPTION:THIS 5-day TRAINING IS DIVIDED INTO TWO WEEKENDS\, JULY 24 AND 25 and July 31-August 2 \nThe tuition includes both weekends. \nHOURS: 10 am to 6 pm Eastern Time each day \nTOPICS: Crossing Earthbound spirits\, Healing Ancestral Wounds\, Detrimental Energy Protocol\, ET Interference Protocol\, Working with Elementals \nPRE-REQUISITE: Soul Detective Levels One and Two \nCEs: 30 CEs for ACEP recertification \nTuition: $925   earlybird two weeks before $885 \n  \nALL THREE LEVELS \nTuition for all three levels without discounts $1\,945. \nDiscount for signing up for all three levels at once: $1\,845 \nEarlybird discount paying in full by two weeks before the first class is  $1\,740 \nExtra-earlybird price paying in full by one month before the first class is $1\,695. \nAdditional $50 scholarship per level based on need available with a letter of request accompanying the application \nCANCELLATION  POLICY \nRefund minus $50 registration fee with at least 7 days advance notice. \nFor cancellation with less than 7 days notice\, tuition minus $50 registration fee will be credited toward a future training.
URL:https://souldetective.net/event/soul-detective-level-3-part-a-online/
LOCATION:Online
ORGANIZER;CN="Barbara%20Stone":MAILTO:contact@souldetective.net
END:VEVENT
BEGIN:VEVENT
DTSTART;VALUE=DATE:20210522
DTEND;VALUE=DATE:20210524
DTSTAMP:20260421T154554
CREATED:20210407T183606Z
LAST-MODIFIED:20210407T183606Z
UID:4315-1621641600-1621814399@souldetective.net
SUMMARY:Soul Detective Level 1 Online
DESCRIPTION:HOURS: 10 am to 6 pm Eastern Time each day \nTOPICS: Muscle testing\, Centering Techniques\, Energy Tapping\, Healing Past Life Trauma \nTARGET AUDIENCE: Target audience is practitioners of the healing arts: psychotherapists\, hypnotherapists\, counselors\, pastoral counselors\, psychologists\, psychiatrists\, psychiatric nurses\, and other healing professionals \nCEs: 12 CEs for ACEP re-certification \nTUITION: $425. Earlybird discount of $30 if paid in full by two weeks before class\, $395. \nAdditional $50 scholarship per level based on need available with a letter of request accompanying the application \n  \nCANCELLATION  POLICY \nRefund minus $50 registration fee with at least 7 days advance notice. \nFor cancellation with less than 7 days notice\, tuition minus $50 registration fee will be credited toward a future training.
URL:https://souldetective.net/event/soul-detective-level-1-online/
LOCATION:Online
ORGANIZER;CN="Barbara%20Stone":MAILTO:contact@souldetective.net
END:VEVENT
BEGIN:VEVENT
DTSTART;VALUE=DATE:20210319
DTEND;VALUE=DATE:20210324
DTSTAMP:20260421T154554
CREATED:20201005T200250Z
LAST-MODIFIED:20201005T200250Z
UID:4285-1616112000-1616543999@souldetective.net
SUMMARY:Soul Detective Level Three Online
DESCRIPTION:HOURS: 9 am to 5 pm Eastern Time each day \nTOPICS: Crossing Earthbound spirits\, Healing Ancestral Wounds\, Detrimental Energy Protocol\, ET Implant Protocol\, Working with Elementals \nPRE-REQUISITE: Soul Detective Levels One and Two \nCEs: 30 CEs for ACEP recertification \nTuition: $795   earlybird two weeks before $755 \n  \nALL THREE LEVELS \nTuition for all three levels without discounts $1\,695. \nDiscount for signing up for all three levels at once: $1\,595 \nEarlybird discount paying in full by two weeks before the first class is  $1\,490. \nExtra-earlybird price paying in full by one month before the first class is $1\,450. \nAdditional $50 scholarship per level based on need available with a letter of request accompanying the application \nCANCELLATION  POLICY \nRefund minus $50 registration fee with at least 7 days advance notice. \nFor cancellation with less than 7 days notice\, tuition minus $50 registration fee will be credited toward a future training. \nhttps://souldetective.net/soul-detective-level-3/ \n 
URL:https://souldetective.net/event/soul-detective-level-three-online/
LOCATION:Online
ORGANIZER;CN="Barbara%20Stone":MAILTO:contact@souldetective.net
END:VEVENT
END:VCALENDAR