BEGIN:VCALENDAR
VERSION:2.0
PRODID:-//Soul Detective - ECPv6.0.9//NONSGML v1.0//EN
CALSCALE:GREGORIAN
METHOD:PUBLISH
X-WR-CALNAME:Soul Detective
X-ORIGINAL-URL:https://souldetective.net
X-WR-CALDESC:Events for Soul Detective
REFRESH-INTERVAL;VALUE=DURATION:PT1H
X-Robots-Tag:noindex
X-PUBLISHED-TTL:PT1H
BEGIN:VTIMEZONE
TZID:America/New_York
BEGIN:DAYLIGHT
TZOFFSETFROM:-0500
TZOFFSETTO:-0400
TZNAME:EDT
DTSTART:20230312T070000
END:DAYLIGHT
BEGIN:STANDARD
TZOFFSETFROM:-0400
TZOFFSETTO:-0500
TZNAME:EST
DTSTART:20231105T060000
END:STANDARD
END:VTIMEZONE
BEGIN:VEVENT
DTSTART;VALUE=DATE:20230909
DTEND;VALUE=DATE:20230911
DTSTAMP:20260421T094241
CREATED:20230718T234440Z
LAST-MODIFIED:20230718T234440Z
UID:4979-1694217600-1694390399@souldetective.net
SUMMARY:Mind Body Spirit Expo Columbus
DESCRIPTION:I will have a booth at the Columbus Mind Body Spirit Expo together with Charleene Closshey. We will offer individual sessions to “Align with your Soul Purpose.” \nSee web link for tickets and more details about the many vendors and lectures offered.
URL:https://souldetective.net/event/mind-body-spirit-expo-columbus/
END:VEVENT
BEGIN:VEVENT
DTSTART;VALUE=DATE:20230930
DTEND;VALUE=DATE:20231002
DTSTAMP:20260421T094241
CREATED:20230531T111248Z
LAST-MODIFIED:20230531T111248Z
UID:4959-1696032000-1696204799@souldetective.net
SUMMARY:Level 1 Online with Harriette McDonough
DESCRIPTION:To reserve a space\, call or text Harriette at 516-680-2463 or email Harriettemcd@gmail.com
URL:https://souldetective.net/event/level-1-online-with-harriette-mcdonough/
LOCATION:Online
END:VEVENT
END:VCALENDAR