BEGIN:VCALENDAR
VERSION:2.0
PRODID:-//Soul Detective - ECPv6.0.9//NONSGML v1.0//EN
CALSCALE:GREGORIAN
METHOD:PUBLISH
X-WR-CALNAME:Soul Detective
X-ORIGINAL-URL:https://souldetective.net
X-WR-CALDESC:Events for Soul Detective
REFRESH-INTERVAL;VALUE=DURATION:PT1H
X-Robots-Tag:noindex
X-PUBLISHED-TTL:PT1H
BEGIN:VTIMEZONE
TZID:America/New_York
BEGIN:DAYLIGHT
TZOFFSETFROM:-0500
TZOFFSETTO:-0400
TZNAME:EDT
DTSTART:20230312T070000
END:DAYLIGHT
BEGIN:STANDARD
TZOFFSETFROM:-0400
TZOFFSETTO:-0500
TZNAME:EST
DTSTART:20231105T060000
END:STANDARD
END:VTIMEZONE
BEGIN:VEVENT
DTSTART;VALUE=DATE:20230930
DTEND;VALUE=DATE:20231002
DTSTAMP:20260421T110907
CREATED:20230531T111248Z
LAST-MODIFIED:20230531T111248Z
UID:4959-1696032000-1696204799@souldetective.net
SUMMARY:Level 1 Online with Harriette McDonough
DESCRIPTION:To reserve a space\, call or text Harriette at 516-680-2463 or email Harriettemcd@gmail.com
URL:https://souldetective.net/event/level-1-online-with-harriette-mcdonough/
LOCATION:Online
END:VEVENT
BEGIN:VEVENT
DTSTART;VALUE=DATE:20231007
DTEND;VALUE=DATE:20231010
DTSTAMP:20260421T110907
CREATED:20230531T113150Z
LAST-MODIFIED:20230531T113150Z
UID:4972-1696636800-1696895999@souldetective.net
SUMMARY:Level 3 Online with Barbara Stone
DESCRIPTION:HOURS: 10 am to 6 pm Eastern Time each day \nTOPICS: Crossing Earthbound spirits\, Healing Ancestral Wounds\, Detrimental Energy Protocol\, Working with Elementals \nPRE-REQUISITE: Soul Detective Levels One and Two \nCEs: 18 CEs for ACEP recertification \nTUITION:  $595\, earlybird rate of $560 if tuition is paid in full two weeks prior to class \nAdditional $50 to $100 scholarship per level based on need available with a letter of request accompanying the application
URL:https://souldetective.net/event/level-3-online-with-barbara-stone-2/
LOCATION:Online
ORGANIZER;CN="Barbara%20Stone":MAILTO:contact@souldetective.net
END:VEVENT
BEGIN:VEVENT
DTSTART;VALUE=DATE:20231028
DTEND;VALUE=DATE:20231030
DTSTAMP:20260421T110907
CREATED:20230322T170929Z
LAST-MODIFIED:20230322T171005Z
UID:4940-1698451200-1698623999@souldetective.net
SUMMARY:Level 4A Online with Dr. Stone
DESCRIPTION:HOURS: 10 am to 6 pm Eastern Time each day \nTOPICS: ET Interference Protocol\, Reptilian Removal Protocol \nPRE-REQUISITE: Soul Detective Levels One\, Two\, and Three \nCEs: 12 CEs for ACEP recertification \nINCLUDED WITH THE CLASS: A Mermet Pendulum \n  \nTuition: $395  earlybird price $365 for payment in full two weeks prior to class \nAdditional $50 to $100 scholarship per level based on need available with a letter of request accompanying the application
URL:https://souldetective.net/event/level-4a-online-with-dr-stone/
LOCATION:Online
ORGANIZER;CN="Barbara%20Stone":MAILTO:contact@souldetective.net
END:VEVENT
BEGIN:VEVENT
DTSTART;VALUE=DATE:20231031
DTEND;VALUE=DATE:20231113
DTSTAMP:20260421T110907
CREATED:20230822T195913Z
LAST-MODIFIED:20230822T195913Z
UID:4984-1698710400-1699833599@souldetective.net
SUMMARY:Levels 1\, 2\, 3\, 4A\, and 4B in person Millersburg\, OH
DESCRIPTION:We are offering a special intensive in-person Soul Detective complete training of all four levels on October 31 through November 12. \nLevels 1\, 2\, 3\, and 4A will be all in person. Level 4B will be a hybrid class with some students joining via Zoom and others being in person with the teachers\, Dr. Stone and her husband\, Robert Alcorn\, MD. \nThe cost is $400 per day for Levels 1\, 2\, 3\, and 4A. This cost includes the option of on-site lodging at no extra cost and is inclusive of all meals.  \nThe cost for Level 4B is $695 via Zoom and $795 in person\, meals included. \nNote: a student can come for however many of the levels wanted–for example\, just levels 1\, 2\, and 3. Here is a breakdown of the prices: \nLevel 1 is 2 days = $800\nLevel 2 is 3 days = $1\,200\nLevel 3 is 3 days = $1\,200\nLevel 4A is 2 days = $800 \nTotal cost $4\,795\nEarlybird rate paid in full by October 15 is $4\,750. \nClass hours: 10 to 5:30 every day for Levels 1 to 4A\nFor Level 4B\, hours are 9 to 5. \nEmail Dr. Stone at contact@souldetective.net or call her at 330-440-4088 if you are interested in saving a space for you for this intensive. Check\, credit card\, or PayPal accepted.
URL:https://souldetective.net/event/levels-1-2-3-4a-and-4b-in-person-millersburg-oh/
LOCATION:Millersburg\, Ohio\, OH\, 44654\, United States
ORGANIZER;CN="Barbara%20Stone":MAILTO:contact@souldetective.net
END:VEVENT
END:VCALENDAR